BEGIN:VCALENDAR
VERSION:2.0
METHOD:PUBLISH
PRODID:-//Telerik Inc.//Sitefinity CMS 15.2//EN
BEGIN:VTIMEZONE
TZID:Romance Standard Time
BEGIN:STANDARD
DTSTART:20251002T030000
RRULE:FREQ=YEARLY;BYDAY=-1SU;BYHOUR=3;BYMINUTE=0;BYMONTH=10
TZNAME:Romance Standard Time
TZOFFSETFROM:+0200
TZOFFSETTO:+0100
END:STANDARD
BEGIN:DAYLIGHT
DTSTART:20250301T020000
RRULE:FREQ=YEARLY;BYDAY=-1SU;BYHOUR=2;BYMINUTE=0;BYMONTH=3
TZNAME:Romance Daylight Time
TZOFFSETFROM:+0100
TZOFFSETTO:+0200
END:DAYLIGHT
END:VTIMEZONE
BEGIN:VEVENT
DESCRIPTION:The Quadripartite has published the Quadripartite guidance on O
 ne Health&nbsp\;integrated&nbsp\;surveillance of&nbsp\;antimicrobial resis
 tance (AMR) and use (AMU)\, which provides overarching objective-driven ro
 admaps for developing and strengthening context-appropriate&nbsp\;systems 
 for integrated surveillance.&nbsp\;&nbsp\;The webinar to launch the Quadri
 partite guidance on One Health&nbsp\;integrated&nbsp\;surveillance of&nbsp
 \;antimicrobial resistance AMR and AMU will take place on 23 April from 13
 :00 to 14:30 CEST. Kindly save the date in your calendars.The webinar will
  provide an opportunity to:&nbsp\;Present the Quadripartite guidance on   
    One Health integrated surveillance of AMR and AMUIdentify collaboration
  opportunities      to implement integrated surveillance and strengthen da
 ta-driven AMR      response.Showcase Quadripartite priorities on      One 
 Health integrated surveillance of AMR and AMUIdentify opportunities for   
    coordinated actionThe webinar is open to all relevant stakeholders\, in
 cluding national surveillance authorities\, regulatory agencies\, One Heal
 th coordination bodies\, international and non-governmental organizations 
 involved in AMR and AMU surveillance\, and technical personnel and policym
 akers implementing AMR and AMU systems at all levels.You can register to a
 ttend hereDownload the guidance hereFor further questions about the webina
 r\, please contact qjs-ais@who.int&nbsp\;
DTEND:20260423T123000Z
DTSTAMP:20260419T144732Z
DTSTART:20260423T110000Z
LOCATION:Online
SEQUENCE:0
SUMMARY:Launch webinar for the  Quadripartite guidance on One Health integr
 ated surveillance of antimicrobial resistance and use
UID:RFCALITEM639122068528329981
X-ALT-DESC;FMTTYPE=text/html:<p>The Quadripartite has published the Quadrip
 artite guidance on One Health&nbsp\;integrated&nbsp\;surveillance of&nbsp\
 ;antimicrobial resistance (AMR) and use (AMU)\, which provides overarching
  objective-driven roadmaps for developing and strengthening context-approp
 riate&nbsp\;systems for integrated surveillance.&nbsp\;&nbsp\;</p><p>The w
 ebinar to launch the Quadripartite guidance on One Health&nbsp\;integrated
 &nbsp\;surveillance of&nbsp\;antimicrobial resistance AMR and AMU will tak
 e place on 23 April from 13:00 to 14:30 CEST. Kindly save the date in your
  calendars.</p><p>The webinar will provide an opportunity to:&nbsp\;</p><u
 l type="disc"><li data-list="0" data-level="1">Present the Quadripartite g
 uidance on      One Health integrated surveillance of AMR and AMU</li><li 
 data-list="0" data-level="1">Identify collaboration opportunities      to 
 implement integrated surveillance and strengthen data-driven AMR      resp
 onse.</li><li data-list="0" data-level="1">Showcase Quadripartite prioriti
 es on      One Health integrated surveillance of AMR and AMU</li><li data-
 list="0" data-level="1">Identify opportunities for      coordinated action
 </li></ul><p>The webinar is open to all relevant stakeholders\, including 
 national surveillance authorities\, regulatory agencies\, One Health coord
 ination bodies\, international and non-governmental organizations involved
  in AMR and AMU surveillance\, and technical personnel and policymakers im
 plementing AMR and AMU systems at all levels.</p><p>You can register to at
 tend <span style="text-decoration:underline\;"><a href="https://who.zoom.u
 s/meeting/register/55Fszxz8S3-BJg9BRMorJA">here</a></span></p><p>Download 
 the guidance <span style="text-decoration:underline\;"><a href="https://ww
 w.qjsamr.org/publications/9789240109865">here</a></span></p><p>For further
  questions about the webinar\, please contact <span style="text-decoration
 :underline\;"><a href="mailto:qjs-ais@who.int">qjs-ais@who.int</a></span><
 /p><p><span style="text-decoration:underline\;">&nbsp\;</span></p>
END:VEVENT
END:VCALENDAR
